BEGIN:VCALENDAR
PRODID:Nexudus
VERSION:2.0
BEGIN:VTIMEZONE
TZID:Pacific/Auckland
X-LIC-LOCATION:Pacific/Auckland
BEGIN:STANDARD
DTSTART:20250406T030000
RRULE:FREQ=YEARLY;BYDAY=1SU;BYMONTH=4
TZNAME:NZST
TZOFFSETFROM:+1300
TZOFFSETTO:+1200
END:STANDARD
BEGIN:DAYLIGHT
DTSTART:20240929T040000
RRULE:FREQ=YEARLY;BYDAY=-1SU;BYMONTH=9
TZNAME:NZDT
TZOFFSETFROM:+1200
TZOFFSETTO:+1100
END:DAYLIGHT
END:VTIMEZONE
BEGIN:VEVENT
DESCRIPTION:\nAre you tired of narcissistic and toxic relationships? Perhap
 s you've been so hurt that you never want to be in another relationship ag
 ain? You're worried that you might end up with the same type of person aga
 in. It's hard when things start off well but all of a sudden it all turns 
 to custard and you don't know why.\n\nNot understanding how narcissists op
 erate could mean you may end up in other soul-destroying relationships\, i
 nstead of getting the love you deserve.\n\nAsk yourself\, have you ever fa
 ced any of these situations in a relationship?\n\nFeeling belittled or sco
 rned\nFeeling controlled by a partner\n\nBeing made to doubt yourself and 
 called crazy …\n\nFeeling like most days are a battle\n\nLearn about the
  signs to look for\, the patterns of behaviour that play out time and time
  again.\n\nYou can heal the past and find a healthy\, happy relationship i
 n 2021.\nThis is the year to thrive rather than survive!\n\nJoin Master Hy
 pnotherapist and Coach Jan Haldane in this live workshop in Tauranga.\n\nB
 onus: Get free access to my online coaching program with eBook\, Workbook\
 , Client's Stories\, mp3s and access to my private Facebook group.\nEvent 
 link: https://www.bloomco.nz/en/events/view/1414866040/reclaim-your-life-a
 fter-narcissistic-abuse\n
DTEND;TZID=Pacific/Auckland:20210220T160000
DTSTAMP:20260424T113631Z
DTSTART;TZID=Pacific/Auckland:20210220T100000
LOCATION:BloomCo
SEQUENCE:0
SUMMARY:Reclaim Your Life after Narcissistic Abuse
UID:c1cfcd2b-5e10-4246-973a-b6b242d53124
END:VEVENT
END:VCALENDAR
